BEGIN:VCALENDAR
VERSION:2.0
PRODID:-//Moms Unhinged - ECPv6.15.17.1//NONSGML v1.0//EN
CALSCALE:GREGORIAN
METHOD:PUBLISH
X-WR-CALNAME:Moms Unhinged
X-ORIGINAL-URL:https://momsunhinged.com
X-WR-CALDESC:Events for Moms Unhinged
REFRESH-INTERVAL;VALUE=DURATION:PT1H
X-Robots-Tag:noindex
X-PUBLISHED-TTL:PT1H
BEGIN:VTIMEZONE
TZID:America/Denver
BEGIN:DAYLIGHT
TZOFFSETFROM:-0700
TZOFFSETTO:-0600
TZNAME:MDT
DTSTART:20240310T090000
END:DAYLIGHT
BEGIN:STANDARD
TZOFFSETFROM:-0600
TZOFFSETTO:-0700
TZNAME:MST
DTSTART:20241103T080000
END:STANDARD
BEGIN:DAYLIGHT
TZOFFSETFROM:-0700
TZOFFSETTO:-0600
TZNAME:MDT
DTSTART:20250309T090000
END:DAYLIGHT
BEGIN:STANDARD
TZOFFSETFROM:-0600
TZOFFSETTO:-0700
TZNAME:MST
DTSTART:20251102T080000
END:STANDARD
BEGIN:DAYLIGHT
TZOFFSETFROM:-0700
TZOFFSETTO:-0600
TZNAME:MDT
DTSTART:20260308T090000
END:DAYLIGHT
BEGIN:STANDARD
TZOFFSETFROM:-0600
TZOFFSETTO:-0700
TZNAME:MST
DTSTART:20261101T080000
END:STANDARD
END:VTIMEZONE
BEGIN:VEVENT
DTSTART;TZID=America/Denver:20250715T190000
DTEND;TZID=America/Denver:20250715T210000
DTSTAMP:20260423T033346
CREATED:20250525T013752Z
LAST-MODIFIED:20250529T015504Z
UID:10000640-1752606000-1752613200@momsunhinged.com
SUMMARY:July 15\, 2025 - Goldsboro\, NC
DESCRIPTION:Buy Tickets\n			\n			\n				\n				\n				\n				\n			\n				\n				\n			\n				\n				\n				\n				\n				\n				\n				\n				\n				\n				\n				\n				\n				\n				\n				\n				\n				\n				Join us for a night of laughter as we explore everything from motherhood\, midlife crisis\, marriage\, divorce\, online dating\, and other things that irritate us. Men are welcome to the show\, too. \nMoms Unhinged has been selling out shows all over the country and is coming to you for a special performance. \nWe do clean (ish) comedy and this is a fun night out with your girlfriends\, drinking club (I mean book club)\, neighborhood group or your own mom. \nPerforming Emily Holden and Holly Ballantine with headliner Zoe Rogers \nParamount Theatre139 S Center StGoldsboro\, NC 27530 \nAdult themes and language – 18+Tickets – $22 – $27.50Doors open at 6:00 PM\, Show starts at 7:00 PM. \n			\n			\n				\n				\n				\n				\n			\n				\n				\n			\n				\n				\n				\n				\n				\n				\n				\n				\n				\n				\n				\n				\n				\n				\n				\n				\n				\n				Get your tickets now!\nWe frequently SELL OUT so don’t wait to get tickets! \n			\n				\n				\n				\n				\n				Tickets – $22 – $27.50\nRefund Policy: Refer to the venue’s policies. \n			\n				Buy Tickets\n			\n				\n				\n				\n				\n				Watch your email and contact us with any issues. \n			\n			\n				\n				\n				\n				\n			\n				\n				\n			\n				\n				\n				\n				\n				\n				\n				\n				\n				\n				\n				\n				\n				\n				\n				\n				\n				\n				Performing\n			\n			\n				\n				\n				\n				\n			\n				\n				\n				\n				\n				\n				\n				\n				\n				\n				\n				\n			\n			\n				\n				\n				\n				\n				\n				\n				\n				\n				\n				Headliner\nZoe Rogers gets inspiration and sleep deprivation from her three awesome kids who make sure life is never dull or quiet. She has been featured on Nickmom.com\, Disney Babble Up Late\, Edinburgh Fringe\, Laughing Skull Comedy Festival and was recently chosen to MC and perform in the 2019 Gilda Gala.  She also produces the widely acclaimed Boulder Comedy Festival. \n			\n			\n				\n				\n				\n				\n			\n				\n				\n				\n				\n				\n				\n				\n				\n				\n				\n				\n			\n			\n				\n				\n				\n				\n				\n				\n				\n				\n				\n				Emily Holden has never met a stage she didn’t love or an audience member that didn’t become a friend. This past year included being a 2024 Ladies of Laughter finalist in NYC\, performing at the West End Comedy Festival and featuring for Derrick Stroup. When not touring\, you can find her in Atlanta at venues such as the Punchline\, Alley Stage and Helium Comedy Club and producing her popular monthly show\, Banjo Lounge\, in Avondale Estates\, Georgia. Her energy onstage is infectious\, her potty mouth is remarkable and her take on motherhood and marriage will make young audiences go ahead and schedule that vasectomy.\n			\n			\n				\n				\n				\n				\n			\n				\n				\n				\n				\n				\n				\n				\n				\n				\n				\n				\n			\n			\n				\n				\n				\n				\n				\n				\n				\n				\n				\n				Holly Ballantine  is a literal train wreck who has been charming audiences across the country with her hilarious stories of motherhood\, marriage\, and near death experiences since the day Chris Rock told her she was funny. She is based in Atlanta\, Georgia where she co-produces West End Comedy Festival and Hissy Fit Comedy.  She has performed at clubs and festivals across the country including Big Sky\, Limestone\, 10\,000 Laughs\, Laughing Skull\, Big Pine\, and many others. Her writing has been featured on Buzzfeed\, Netflix Family\, The Chive\, HuffPost and the Washington Post. She does not hold grudges\, but has a spreadsheet of everyone who owes her favors.\n			\n			\n				\n				\n				\n				\n			\n				\n				\n			\n				\n				\n				\n				\n				\n				\n				\n				\n				\n				\n				\n				\n				\n				Buy Tickets\n			\n			\n				\n				\n				\n				\n			\n				\n				\n			\n				\n				\n				\n				\n				\n				\n				\n				\n				\n				\n				\n				\n				\n				\n				\n				\n				\n				Praise for Moms Unhinged\n			\n			\n				\n				\n				\n				\n			\n				\n				\n				\n				\n				\n				\n				\n				\n				\n				\n				\n				\n					Saw them last weekend. So many laughs - left with cheek muscles aching. Highly recommend!! \n					— Linda G.\n					 \n				\n			\n				\n				\n				\n				\n				\n				\n					I haven’t laughed that much in a long time! \n					— Kelly\n					 \n				\n			\n			\n				\n				\n				\n				\n				\n				\n				\n				\n				\n				\n				\n					So fun - a perfect girls night out! ❤️ \n					— Bonnie D.\n					 \n				\n			\n				\n				\n				\n				\n				\n				\n					You rocked it – that was such a fabulous show. Can't wait for the next one! \n					— Sylvia\n					 \n				\n			\n			\n				\n				\n				\n				\n				\n				\n				\n				\n				\n				\n				\n					This show was definitely a Comedic Masterpiece!!! What talent! My face is still hurting from non-stop laughing! \nThanks for a wonderful evening!! \n😁💕😁💕😁 \n					— Nancy
URL:https://momsunhinged.com/comedy-show/goldsboro-nc-71525/
LOCATION:Paramount Theatre\, 139 S Center St\, Goldsboro\, NC\, 27530\, United States
ATTACH;FMTTYPE=image/jpeg:https://momsunhinged.com/wp-content/uploads/2025/05/071525_Moms-Unhinged-Standup-Comedy_Paramount-Theatre-Goldsboro-NC_Event-1200-x-628_v2.jpg
END:VEVENT
END:VCALENDAR